BEGIN:VCALENDAR
VERSION:2.0
PRODID:-//ChamberMaster//Event Calendar 2.0//EN
METHOD:PUBLISH
X-PUBLISHED-TTL:P3D
REFRESH-INTERVAL:P3D
CALSCALE:GREGORIAN
BEGIN:VEVENT
DTSTART:20260130T143000Z
DTEND:20260130T153000Z
X-MICROSOFT-CDO-ALLDAYEVENT:FALSE
SUMMARY:EmpowerFIT Boot Camp - FREE Fridays!
DESCRIPTION:EmpowerFIT is an outdoor boot camp program that was established over 10 years ago (formally AlaVie Fitness). Our program provides a strong\, supportive fitness community that trains its athletes to fully experience the joys and conquer the demands of daily life. Our workouts are varied\, fun and challenging\, incorporating the latest in functional\, performance based training methods and led by certified\, professional trainers. \n\n \n\nEmpowerFIT Boot Camp is now offering FREE Fridays (on the last Friday of every month) at 6:30am. Come check out our outdoor boot camp program at Palo Alto High School Track. All fitness levels are welcome!\n\n \n\nAll you need to bring is an exercise matt and a set of weights (if you don't have weights come anyways).
X-ALT-DESC;FMTTYPE=text/html:EmpowerFIT is an outdoor boot camp program that was established over 10 years ago (formally AlaVie Fitness). Our program provides a strong\, supportive fitness community that trains its athletes to fully experience the joys and conquer the demands of daily life. Our workouts are varied\, fun and challenging\, incorporating the latest in functional\, performance based training methods and led by certified\, professional trainers.&nbsp\;<br />\n&nbsp\;<br />\nEmpowerFIT Boot Camp is now offering FREE Fridays (on the last Friday of every month) at 6:30am. Come check out our outdoor boot camp program at Palo Alto High School Track. All fitness levels are welcome!<br />\n&nbsp\;<br />\nAll you need to bring is an exercise matt and a set of weights (if you don&#39\;t have weights come anyways).\n<p>&nbsp\;</p>\n
LOCATION:Palo Alto High School Track
UID:e.2469.5112
SEQUENCE:3
DTSTAMP:20260424T235413Z
URL:http://paloaltochamber.sampleorg.com/events/details/empowerfit-boot-camp-free-fridays-01-30-2026-5112
END:VEVENT

END:VCALENDAR
