BEGIN:VCALENDAR
VERSION:2.0
PRODID:-//ChamberMaster//Event Calendar 2.0//EN
METHOD:PUBLISH
X-PUBLISHED-TTL:P3D
REFRESH-INTERVAL:P3D
CALSCALE:GREGORIAN
BEGIN:VEVENT
DTSTART:20260101T150000Z
DTEND:20260101T150000Z
X-MICROSOFT-CDO-ALLDAYEVENT:FALSE
SUMMARY:Volunteer at Stanford Blood Center
DESCRIPTION:Stanford Blood Center is seeking friendly volunteers to help as Canteen Hosts in our blood donation centers in Mountain View\, Palo Alto\, Menlo Park\, and also  our mobile blood drives. Must be 16+ years old and be able to make a 1-year commitment. The need for volunteers is ongoing and you are welcome to inquire at any time throughout the year!\n\n \n\nFor questions or more information\, please contact:\n\nAlison Hopkins\, Volunteer Supervisor\n\nAlison.hopkins@stanford.edu
X-ALT-DESC;FMTTYPE=text/html:Stanford Blood Center is seeking friendly volunteers to help as Canteen Hosts in our blood donation centers in Mountain View\, Palo Alto\, Menlo Park\, and also &nbsp\;our mobile blood drives. Must be 16+ years old and be able to make a 1-year commitment. The need for volunteers is ongoing and you are welcome to inquire at any time throughout the year!<br />\n&nbsp\;<br />\nFor questions or more information\, please contact:<br />\nAlison Hopkins\, Volunteer Supervisor<br />\nAlison.hopkins@stanford.edu<br />\n&nbsp\;
LOCATION:
UID:e.2469.13690
SEQUENCE:3
DTSTAMP:20260424T235412Z
URL:http://paloaltochamber.sampleorg.com/events/details/volunteer-at-stanford-blood-center-01-01-2026-13690
END:VEVENT

END:VCALENDAR
